BEGIN:VCALENDAR
VERSION:2.0
PRODID:-//Big Bend Hospice - ECPv6.15.20//NONSGML v1.0//EN
CALSCALE:GREGORIAN
METHOD:PUBLISH
X-ORIGINAL-URL:https://bigbendhospice.org
X-WR-CALDESC:Events for Big Bend Hospice
REFRESH-INTERVAL;VALUE=DURATION:PT1H
X-Robots-Tag:noindex
X-PUBLISHED-TTL:PT1H
BEGIN:VTIMEZONE
TZID:America/New_York
BEGIN:DAYLIGHT
TZOFFSETFROM:-0500
TZOFFSETTO:-0400
TZNAME:EDT
DTSTART:20230312T070000
END:DAYLIGHT
BEGIN:STANDARD
TZOFFSETFROM:-0400
TZOFFSETTO:-0500
TZNAME:EST
DTSTART:20231105T060000
END:STANDARD
BEGIN:DAYLIGHT
TZOFFSETFROM:-0500
TZOFFSETTO:-0400
TZNAME:EDT
DTSTART:20240310T070000
END:DAYLIGHT
BEGIN:STANDARD
TZOFFSETFROM:-0400
TZOFFSETTO:-0500
TZNAME:EST
DTSTART:20241103T060000
END:STANDARD
BEGIN:DAYLIGHT
TZOFFSETFROM:-0500
TZOFFSETTO:-0400
TZNAME:EDT
DTSTART:20250309T070000
END:DAYLIGHT
BEGIN:STANDARD
TZOFFSETFROM:-0400
TZOFFSETTO:-0500
TZNAME:EST
DTSTART:20251102T060000
END:STANDARD
END:VTIMEZONE
BEGIN:VEVENT
DTSTART;TZID=America/New_York:20240924T173000
DTEND;TZID=America/New_York:20240924T183000
DTSTAMP:20260425T132911
CREATED:20240111T204526Z
LAST-MODIFIED:20240830T163750Z
UID:10000218-1727199000-1727202600@bigbendhospice.org
SUMMARY:September 2024 Monthly Children’s Night Grief Support Group
DESCRIPTION:Is your child in need of a safe and supportive space to talk about the death of someone special?\nAs part of our Community Bereavement Care\, Big Bend Hospice offers a monthly support group\, at no cost\, for children ages 6-12. The loss does not need to be recent for a child to benefit from participating.  \nEvent Details: \n\nDate: Tuesday\, August 24th \nTime: 5:30-6:30 PM \nLocation: This group will meet in the Family Room at the Jean McCully Family House\, located behind the Elaine C. Bartelt Administration Center\n\nThis group provides a safe space for children to share their feelings\, ask questions\, and learn healthy ways to cope with grief.  \nMore Information: \n\nCost: No cost\n\nWho: Children ages 6-12\n\nRegistration: Please contact Whitney Snow at (850) 878-5310 or wsnow@bigbendhospice.org Registration is required for the initial session
URL:https://bigbendhospice.org/calendar/september-2024-childrens-grief-support-group/
LOCATION:BBH Jean McCully Family House – Family Room\, 1723 Mahan Center Boulevard\, Tallahassee\, Florida\, 32308\, United States
CATEGORIES:Bereavement Event,Youth Bereavement Support
ATTACH;FMTTYPE=image/jpeg:https://bigbendhospice.org/wp-content/uploads/2024/08/CHILDRENS_NIGHT.jpg
ORGANIZER;CN="Whitney Snow":MAILTO:wsnow@bigbendhospice.org
END:VEVENT
BEGIN:VEVENT
DTSTART;TZID=America/New_York:20240903T173000
DTEND;TZID=America/New_York:20240903T183000
DTSTAMP:20260425T132911
CREATED:20240111T194433Z
LAST-MODIFIED:20240830T163836Z
UID:10000199-1725384600-1725388200@bigbendhospice.org
SUMMARY:September 2024 Monthly Teen Grief Support Group
DESCRIPTION:Does your teen need a safe and supportive space to talk about the death of someone special?\nAs part of our Community Bereavement Care\, Big Bend Hospice offers a monthly grief support group\, at no cost\, for teens ages 13-17. The loss does not have to be recent for a teen to benefit from participating.  \nEvent Details: \n\nDate: Tuesday\, September 3 \nTime: 5:30pm – 6:30pm\nLocation: This group will meet in the Family Room at the Jean McCully Family House\, located behind the Elaine C. Bartelt Administration Center\n\nThis group provides a safe space for teens to share their feelings\, ask questions\, and learn healthy ways to cope with grief.  \n\nMore Information: \n\nCost: No Cost\n\nWho: Teens ages 13-17\n\nRegistration: Please contact Whitney Snow at (850) 878-5310 or wsnow@bigbendhospice.org Registration is required for the initial session. 
URL:https://bigbendhospice.org/calendar/september-2024-teen-grief-support-group/
LOCATION:BBH Jean McCully Family House – Family Room\, 1723 Mahan Center Boulevard\, Tallahassee\, Florida\, 32308\, United States
CATEGORIES:Bereavement Event,Youth Bereavement Support
ATTACH;FMTTYPE=image/jpeg:https://bigbendhospice.org/wp-content/uploads/2024/01/TEEN_NIGHT.jpg
ORGANIZER;CN="Whitney Snow":MAILTO:wsnow@bigbendhospice.org
END:VEVENT
BEGIN:VEVENT
DTSTART;TZID=America/New_York:20240827T173000
DTEND;TZID=America/New_York:20240827T183000
DTSTAMP:20260425T132911
CREATED:20240111T204404Z
LAST-MODIFIED:20240827T165658Z
UID:10000217-1724779800-1724783400@bigbendhospice.org
SUMMARY:August 2024 Monthly Children’s Night Grief Support Group
DESCRIPTION:Is your child in need of a safe and supportive space to talk about the death of someone special?\nBig Bend Hospice offers a free\, monthly support group for children ages 6-12\, open to all youth in our community. The loss does not need to be recent for a child to benefit from participating. \nEvent Details: \n\nDate: Tuesday\, August 27th \nTime: 5:30-6:30 PM \nLocation: Family Room at the Jean McCully Family House\, next to the Margaret Z. Dozier House\n\nThis group provides a safe space for children to share their feelings\, ask questions\, and learn healthy ways to cope with grief.  \nMore Information: \n\nCost: Free \nWho: Open to the community \nRegistration: Required for the initial session \n\n\nFor more information or to register\, please contact Whitney Snow at (850) 878-5310 or wsnow@bigbendhospice.org
URL:https://bigbendhospice.org/calendar/august-2024-childrens-grief-support-group/
LOCATION:BBH Jean McCully Family House – Family Room\, 1723 Mahan Center Boulevard\, Tallahassee\, Florida\, 32308\, United States
CATEGORIES:Bereavement Event,Youth Bereavement Support
ATTACH;FMTTYPE=image/jpeg:https://bigbendhospice.org/wp-content/uploads/2024/08/CHILDRENS_NIGHT.jpg
END:VEVENT
BEGIN:VEVENT
DTSTART;TZID=America/New_York:20240806T173000
DTEND;TZID=America/New_York:20240806T183000
DTSTAMP:20260425T132911
CREATED:20240111T194317Z
LAST-MODIFIED:20240708T190913Z
UID:10000198-1722965400-1722969000@bigbendhospice.org
SUMMARY:August 2024 Teen Grief Support Group
DESCRIPTION:Big Bend Hospice offers a monthly grief support group just for teens. Trained grief counselors lead the group in a safe space where you can talk openly\, learn healthy ways to cope with your grief and connect with others.\n\n\n\nHere’s what you can expect:\n\nA safe and welcoming space: Share your thoughts and feelings without judgment.\nLearn about grief: Understand what’s normal and get tips for coping.\nConnect with others: Meet other teens who get what you’re going through.\nGet support from professionals: Trained grief counselors guide the group.\n\n\n\n\nDate: August 6\, 2024\nTime: 5:30 – 6:30 pm\nWho: Teens ages 13-17 who are grieving the loss of a loved one\nLocation: Great Room at McCully Family House\nLocated behind the Big Bend Hospice Administration Building\n1723 Mahan Boulevard\, Tallahassee\, FL 32308\n\n\n\nRegistration:\nThis event is free and open to the community. Registration is required for the initial session.\n\n\n\nFor More Information or to Register:\nContact Whitney Snow at (850) 878-5310 or wsnow@bigbendhospice.org
URL:https://bigbendhospice.org/calendar/august-2024-teen-grief-support-group/
CATEGORIES:Bereavement Event,Youth Bereavement Support
ATTACH;FMTTYPE=image/jpeg:https://bigbendhospice.org/wp-content/uploads/2024/04/alexis-brown-Xv7k95vOFA-web.jpg
END:VEVENT
BEGIN:VEVENT
DTSTART;TZID=America/New_York:20240723T173000
DTEND;TZID=America/New_York:20240723T183000
DTSTAMP:20260425T132912
CREATED:20240111T204245Z
LAST-MODIFIED:20240719T202353Z
UID:10000216-1721755800-1721759400@bigbendhospice.org
SUMMARY:July 2024 Children’s Grief Support Group
DESCRIPTION:Does your child need a safe and supportive space to talk about the death of someone special? Big Bend Hospice is here for you\, free of charge and open to the youth in our community.\nBig Bend Hospice offers a free monthly support group for kids ages 6-12. The loss does not have to be recent for a child to benefit from participating. Our next meeting is Tuesday\, July 23rd\, from 5:30-6:30pm in the cozy Family Room at the Jean McCully Family House\, next to the Margaret Z. Dozier House.\n  \nThis group is a safe space for children to share their feelings\, ask questions\, and learn healthy ways to cope with grief. This month’s theme is the “Dog Days of Summer\,” inspired by the famous Blue Dog artwork by George Rodrigue. We are also excited to welcome Tallahassee Memorial Animal Therapy Program as part of the evening’s activities.\n\n  \nThis event is free and open to the community. Registration is required for the initial session.\n\n\nContact Whitney Snow at (850) 878-5310 or wsnow@bigbendhospice.org for more information or to register.
URL:https://bigbendhospice.org/calendar/july-2024-childrens-grief-support-group/
LOCATION:BBH Jean McCully Family House – Great Room\, 1723 Mahan Center Boulevard\, Tallahassee\, FL\, 32308\, United States
CATEGORIES:Bereavement Event,Youth Bereavement Support
ATTACH;FMTTYPE=image/jpeg:https://bigbendhospice.org/wp-content/uploads/2024/04/pexels-charles-parker-web.jpg
END:VEVENT
END:VCALENDAR