BEGIN:VCALENDAR
VERSION:2.0
PRODID:-//Big Bend Hospice - ECPv6.15.20//NONSGML v1.0//EN
CALSCALE:GREGORIAN
METHOD:PUBLISH
X-WR-CALNAME:Big Bend Hospice
X-ORIGINAL-URL:https://bigbendhospice.org
X-WR-CALDESC:Events for Big Bend Hospice
REFRESH-INTERVAL;VALUE=DURATION:PT1H
X-Robots-Tag:noindex
X-PUBLISHED-TTL:PT1H
BEGIN:VTIMEZONE
TZID:America/New_York
BEGIN:DAYLIGHT
TZOFFSETFROM:-0500
TZOFFSETTO:-0400
TZNAME:EDT
DTSTART:20230312T070000
END:DAYLIGHT
BEGIN:STANDARD
TZOFFSETFROM:-0400
TZOFFSETTO:-0500
TZNAME:EST
DTSTART:20231105T060000
END:STANDARD
BEGIN:DAYLIGHT
TZOFFSETFROM:-0500
TZOFFSETTO:-0400
TZNAME:EDT
DTSTART:20240310T070000
END:DAYLIGHT
BEGIN:STANDARD
TZOFFSETFROM:-0400
TZOFFSETTO:-0500
TZNAME:EST
DTSTART:20241103T060000
END:STANDARD
BEGIN:DAYLIGHT
TZOFFSETFROM:-0500
TZOFFSETTO:-0400
TZNAME:EDT
DTSTART:20250309T070000
END:DAYLIGHT
BEGIN:STANDARD
TZOFFSETFROM:-0400
TZOFFSETTO:-0500
TZNAME:EST
DTSTART:20251102T060000
END:STANDARD
BEGIN:DAYLIGHT
TZOFFSETFROM:-0500
TZOFFSETTO:-0400
TZNAME:EDT
DTSTART:20260308T070000
END:DAYLIGHT
BEGIN:STANDARD
TZOFFSETFROM:-0400
TZOFFSETTO:-0500
TZNAME:EST
DTSTART:20261101T060000
END:STANDARD
BEGIN:DAYLIGHT
TZOFFSETFROM:-0500
TZOFFSETTO:-0400
TZNAME:EDT
DTSTART:20270314T070000
END:DAYLIGHT
BEGIN:STANDARD
TZOFFSETFROM:-0400
TZOFFSETTO:-0500
TZNAME:EST
DTSTART:20271107T060000
END:STANDARD
END:VTIMEZONE
BEGIN:VEVENT
DTSTART;TZID=America/New_York:20260409T160000
DTEND;TZID=America/New_York:20260409T170000
DTSTAMP:20260424T071757
CREATED:20260129T195849Z
LAST-MODIFIED:20260130T215402Z
UID:10000489-1775750400-1775754000@bigbendhospice.org
SUMMARY:April Paver Service
DESCRIPTION:Please join us for a brick paver dedication ceremony in our Dozier House Memorial Garden.\nThis year the ceremony will be held on April 9th at 4:00 pm. \n  \nEvent Details: \n\nDate: February 16\, 2026\nTime: 2:00pm – 3:00pm\n\nLocation: Dozier House Garden\n\n\nMore Information: \n\nCost: No cost\nPurchase a Paver in Remembrance  HERE\n\nWho: Anyone who has lost a loved one\nRegistration: Please contact Leila McClure at (850) 878-5310 or llmcclure@bigbendhospice.org
URL:https://bigbendhospice.org/calendar/april-paver-service/
LOCATION:Margaret Z Dozier Hospice House Garden\, 1723 Mahan Center Boulevard\, Tallahassee\, Florida\, 32308\, United States
CATEGORIES:Big Bend Hospice Events
ATTACH;FMTTYPE=image/jpeg:https://bigbendhospice.org/wp-content/uploads/2024/04/brickpavers.jpg
ORGANIZER;CN="Leila McClure":MAILTO:llmcclure@bigbendhospice.org
END:VEVENT
BEGIN:VEVENT
DTSTART;TZID=America/New_York:20260216T140000
DTEND;TZID=America/New_York:20260216T150000
DTSTAMP:20260424T071757
CREATED:20260129T191818Z
LAST-MODIFIED:20260129T191818Z
UID:10000488-1771250400-1771254000@bigbendhospice.org
SUMMARY:Veterans Paver Service
DESCRIPTION:Please join us as we honor Veterans with a beautiful brick paver dedication ceremony in our Veterans Memorial Garden. This year the ceremony will be held on February 16th at 2:00 pm. \n  \nEvent Details: \n\nDate: February 16\, 2026\nTime: 2:00pm – 3:00pm\n\nLocation: The Jean McCully Family House Garden\n\n\nMore Information: \n\nCost: No cost\nPurchase a Paver in Remembrance of a Veteran HERE\n\nWho: Anyone who has lost a loved one who was a veteran\nRegistration: Please contact Leila McClure at (850) 878-5310 or llmcclure@bigbendhospice.org
URL:https://bigbendhospice.org/calendar/veterans-paver-service/
LOCATION:Big Bend Hospice Jean McCully Family House Garden\, 1723 Mahan Center Boulevard\, Tallahassee\, FL\, 32308\, United States
CATEGORIES:Big Bend Hospice Events
ATTACH;FMTTYPE=image/jpeg:https://bigbendhospice.org/wp-content/uploads/2024/05/Pearl-Harbor-Day_2024.jpg
ORGANIZER;CN="Leila McClure":MAILTO:llmcclure@bigbendhospice.org
END:VEVENT
BEGIN:VEVENT
DTSTART;TZID=America/New_York:20241206T140000
DTEND;TZID=America/New_York:20241206T150000
DTSTAMP:20260424T071757
CREATED:20240531T190616Z
LAST-MODIFIED:20241107T151716Z
UID:10000247-1733493600-1733497200@bigbendhospice.org
SUMMARY:Pearl Harbor Day Veterans Paver Service
DESCRIPTION:Please join us as we remember the 83rd anniversary of Pearl Harbor Day.\nWe will honor all Veterans with a beautiful brick paver dedication ceremony in our Veterans Memorial Garden. This year the ceremony will be held on December 6th at 2:00 pm. \n  \nEvent Details: \n\nDate: Friday\, December 6\nTime: 2:00pm – 3:00pm\n\nLocation: The Jean McCully Family House Garden\n\n\nMore Information: \n\nCost: No cost\nPurchase a Paver in Remembrance of a Veteran HERE\n\nWho: Anyone who has lost a loved one who was a veteran\nRegistration: Please contact Leila McClure at (850) 878-5310 or llmcclure@bigbendhospice.org
URL:https://bigbendhospice.org/calendar/pearl-harbor-day-veterans-paver-service/
LOCATION:Big Bend Hospice Jean McCully Family House Garden\, 1723 Mahan Center Boulevard\, Tallahassee\, FL\, 32308\, United States
CATEGORIES:Big Bend Hospice Events
ATTACH;FMTTYPE=image/jpeg:https://bigbendhospice.org/wp-content/uploads/2024/05/Pearl-Harbor-Day_2024.jpg
ORGANIZER;CN="Leila McClure":MAILTO:llmcclure@bigbendhospice.org
END:VEVENT
END:VCALENDAR